BEGIN:VCALENDAR
VERSION:2.0
PRODID:-//Eventin//Event Calendar//EN
CALSCALE:GREGORIAN
METHOD:PUBLISH
BEGIN:VEVENT
UID:355482bacf167cd536e44d00ff887503@www.egcoesla.com
SUMMARY:88th Annual Communication – Grand Session
DESCRIPTION:Come out and enjoy the Louisiana Masonic PHAmily at the annual 
 session!\nThis purchase is for your online registration to the 88th Annual 
 Communication of Esther Grand Chapter\, OES\, PHA.\nEvent Dates: June 10-14
 \, 2026Event Location: Baton Rouge\, LA\nFor more detailed information and 
 to mail in your registration\, please see the Grand Session forms located h
 ere. (please note this members area is password protected. Please contact y
 our WM\, Chapter Secretary\, or District Deputy to retrieve the password)\n
 Registration price is based on the timeframes listed below. Pricing include
 s the PayPal fees.\nMar 1 - May 15 - $250 plus feesMay 16 - May 31 - $275 p
 lus feesJune 1 - June 4 - $285 plus feesON SITE - $300
LOCATION:Crowne Plaza Hotel
DTSTAMP:20260420T021852Z
DTSTART:20260610T050000Z
DTEND:20260615T045500Z
END:VEVENT
END:VCALENDAR
